BEGIN:VCALENDAR
VERSION:2.0
PRODID:-//wp-events-plugin.com//7.2.3.1//EN
TZID:America/New_York
X-WR-TIMEZONE:America/New_York
BEGIN:VEVENT
UID:68@vydya.com
DTSTART;TZID=Asia/Tokyo:20200330T080000
DTEND;TZID=Asia/Tokyo:20200331T170000
DTSTAMP:20190716T115622Z
URL:https://www.vydya.com/events/world-congress-on-neuroscience-and-brain-
 disorders/
SUMMARY:World Congress on Neuroscience and Brain Disorders
DESCRIPTION:Coalesce Research Group is very delighted to invite you to “I
 nternational Conference on Neuroscience and Brain disorders (Brain disorde
 rs 2020)” on March 30-31\, 2020 at Kyoto\, Japan with the theme “Disco
 very of novel mechanisms that cause Headaches and Migraine disorders”.\n
 \nWe welcome all the eminent researchers\, students and delegates to make 
 their valuable presence in this approach to witness the valuable scientifi
 c discussions and contribute to the longer term innovations in the field o
 f Neuroscience\, Brain disorders and Treatment\, etc.\n\nThe main theme of
  the conference is to provide unique ethical and responsive methods to all
  researchers towards Neurology cases and the upcoming medical care towards
  the neuroscience and to deal with most updated research.\nConference Sess
 ions\nBrain Cancer and Tumors\nNeuro-immunology of Brain\nStructural and F
 unctional Brain\nBrain and Spine\nPsychiatry and Psychology\nPsychosomatic
  medicine\nCerebrospinal complications\nNeurosurgery\nNeuro-degeneration a
 nd Aging disorder\nBrain Nursing\nPediatric Neurology\nNeuropharmacology\n
 Animal models in brain research\nComputational brain and brain engineering
 \nAddiction and Brain disorders\nAnalysis\, Assessment and Diagnosis of br
 ain disorders\nNeurophysiology\nNovel Therapeutic Strategies
ATTACH;FMTTYPE=image/jpeg:https://www.vydya.com/wp-content/uploads/2019/07
 /2020-03-30-Brain-Disorders-Congress.jpg
CATEGORIES:Medical Conference
LOCATION:Kyoto\, Japan\, -\, Kyoto\, Japan
X-APPLE-STRUCTURED-LOCATION;VALUE=URI;X-ADDRESS=-\, Kyoto\, Japan;X-APPLE-R
 ADIUS=100;X-TITLE=Kyoto\, Japan:geo:0,0
END:VEVENT
BEGIN:VTIMEZONE
TZID:Asia/Tokyo
X-LIC-LOCATION:Asia/Tokyo
BEGIN:STANDARD
DTSTART:20190331T080000
TZOFFSETFROM:+0900
TZOFFSETTO:+0900
TZNAME:JST
END:STANDARD
END:VTIMEZONE
END:VCALENDAR