BEGIN:VCALENDAR
VERSION:2.0
PRODID:-//wp-events-plugin.com//7.2.3.1//EN
TZID:America/New_York
X-WR-TIMEZONE:America/New_York
BEGIN:VEVENT
UID:298@vydya.com
DTSTART;TZID=America/New_York:20210916T090000
DTEND;TZID=America/New_York:20210916T180000
DTSTAMP:20210715T202640Z
URL:https://www.vydya.com/events/womens-health-meet-2021/
SUMMARY:11th International Conference on Women’s Health and Cancer Cure
DESCRIPTION:International ME Conferences welcomes to “11th International 
 Conference on Women Health and Cancer Cure” Webinar (Womens Health Meet 
 2021) which is going to be held on September 16\, 2021. International Conf
 erence on Women’s Health and Cancer Cure welcomes all the Participants f
 rom every corner worldwide to celebrate the togetherness of knowledge shar
 ing event. There will be an expertise gathering of Women health consolers\
 , Doctors\, university scientists\, Research students\, Physicians\, Psych
 iatrists for women health to contribute their knowledge and views to expos
 e to the professionals.\nConference Sessions\nWomen Health and Promotion\n
 Women Health Nursing\nInflammatory Breast Cancer in women\nReproduction an
 d Sexual health\nGynecology and Obstetrics\nKnowledge of Osteoporosis and 
 Bone Health in women\nPCOD and PCOS\nObesity and Cardiovascular Diseases\n
 Birth Control\, HIV and HPV\nNeurology and Women’s health\nMenopause &am
 p\; Menstrual Cycle\nFemale Cancers and Prevention &amp\; Treatment\nHealt
 h risks associated with Surrogacy\nWomen Oncology Rehabilitation and Pregn
 ancy\nAvoidance of Miscarriage and Abortion\nNutritional importance for Me
 ntal Growth in Women\nImpact of Cancer Treatment on Reproductive Health an
 d Fertility\nImpact of Gender Differentiation and Women Abuse on Mental He
 alth\nDiabetics in Women\nSexually Transmitted Diseases\n\n&nbsp\;
ATTACH;FMTTYPE=image/jpeg:https://www.vydya.com/wp-content/uploads/2021/07
 /2021-09-16-Womens-Health-Cancer-Cure-Webinar-s.jpg
CATEGORIES:Medical Conference
END:VEVENT
BEGIN:VTIMEZONE
TZID:America/New_York
X-LIC-LOCATION:America/New_York
BEGIN:DAYLIGHT
DTSTART:20210314T030000
TZOFFSETFROM:-0500
TZOFFSETTO:-0400
TZNAME:EDT
END:DAYLIGHT
END:VTIMEZONE
END:VCALENDAR