BEGIN:VCALENDAR
VERSION:2.0
PRODID:-//wp-events-plugin.com//7.2.3.1//EN
TZID:America/New_York
X-WR-TIMEZONE:America/New_York
BEGIN:VEVENT
UID:493@vydya.com
DTSTART;TZID=America/New_York:20230316T090000
DTEND;TZID=America/New_York:20230317T180000
DTSTAMP:20230314T161730Z
URL:https://www.vydya.com/events/saudi-rare-disease-summit/
SUMMARY:Saudi Rare Disease Summit
DESCRIPTION:Saudi Rare Disease Summit taking place on 16-17 March 2023 Crow
 ne Plaza Riyadh RDC Hotel &amp\; Convention\, KSA in Riyadh. KSA is the pi
 oneering platform that will highlight rare diseases related to practice in
  pediatric neurology\, in addition to metabolic and genetic close related 
 disorders with neurological manifestation related to these diseases. The s
 ummit will provide you with comprehensive overview of critical issues. fea
 turing interactive case studies\, presentations and ample networking oppor
 tunities to discuss the main problems encountered during medical practice.
  Join Saudi Rare Disease Summit and be a part of this outstanding event fo
 r a remarkable learning and networking.\n\nConference Scientific Sessions\
 nDuchenne Muscular Dystrophy\nPediatric Neurofibromatosis\nNewborn Screeni
 ng\nSpinal Muscular Atrophy (SMA)\nRare disease Registry\nClinical Researc
 h in Rare Diseases\nGenetic testing\nStem Cell Therapies for Rare Diseases
 \nGene Therapy
ATTACH;FMTTYPE=image/jpeg:https://www.vydya.com/wp-content/uploads/2023/03
 /2023-03-16-Rare-Disease-Summit-Riyadh-p.jpg
END:VEVENT
BEGIN:VTIMEZONE
TZID:America/New_York
X-LIC-LOCATION:America/New_York
BEGIN:DAYLIGHT
DTSTART:20230312T030000
TZOFFSETFROM:-0500
TZOFFSETTO:-0400
TZNAME:EDT
END:DAYLIGHT
END:VTIMEZONE
END:VCALENDAR