BEGIN:VCALENDAR
VERSION:2.0
PRODID:-//wp-events-plugin.com//7.2.3.1//EN
TZID:America/New_York
X-WR-TIMEZONE:America/New_York
BEGIN:VEVENT
UID:113@vydya.com
DTSTART;TZID=America/New_York:20200326T090000
DTEND;TZID=America/New_York:20200327T180000
DTSTAMP:20190923T105013Z
URL:https://www.vydya.com/events/pediatrics-nursing-2020/
SUMMARY:2nd International Conference on Pediatrics and Primary Healthcare N
 ursing
DESCRIPTION:ME Conferences extends its welcome to “2nd International Conf
 erence on Pediatrics and Primary Healthcare Nursing” during March 26-27\
 , 2020 in Abu Dhabi\, UAE with a theme "Little Feet\, Big Steps: Advancing
  Pediatric Nursing Care" assures an exceptional scientific program promoti
 ng many acclaimed and logic tormenting speakers.\n\nPediatrics &amp\; Nurs
 ing 2020 will focus on educational research directed toward Pediatrics and
  its impact on Pediatrics clinical outcomes\, through oral and poster pres
 entations\, educational workshop sessions\, and influential plenary presen
 tations. Attendees will be provided with the tools to enhance Pediatrics e
 ducation &amp\; Practice programs to make Pediatrics education more effect
 ive in Pediatric Nursing.\n\nPediatrics &amp\; Nursing 2020 is a platform 
 for clinical trial for Pediatric associates\, Pediatric nursing practition
 er\, pediatric healthcare professionals\, pediatric nursing students as we
 ll as pediatric faculty\, pediatric deans\, pediatric researchers\, and pe
 diatric leaders to collaborate on topics affecting Pediatrics\, pediatric 
 nursing and healthcare.\nConference Sessions\nPediatric Nursing\nNeonatal 
 Health Care\nAdolescent Medicine\nNeonatology &amp\; Perinatology\nPediatr
 ic Cardiology and Neurology\nRare Childhood Diseases\nNursing Care for Inf
 ants and Children\nPediatric Nutrition &amp\; Breast Feeding\nChild Nutrit
 ion and Metabolism\nChild Health Nursing and Nursing Practice\nChild Psych
 ology and Psychiatry\nGrowth and Development of Children\nSocio Emotional 
 Development in Childhood\nInfluence of Parenting Style on Child Developmen
 t\nChildren Disabilities\nBioethics in Child Health\, Rights &amp\; Safety
 \nPediatric Hospice &amp\; Palliative Care
ATTACH;FMTTYPE=image/jpeg:https://www.vydya.com/wp-content/uploads/2019/09
 /2020-03-26-Pediatrics-Nursing-Conference-Abu-Dhabi.jpg
CATEGORIES:Medical Conference,Pediatrics Conference
LOCATION:Abu Dhabi\, UAE\, -\, Abu Dhabi\, United Arab Emirates
X-APPLE-STRUCTURED-LOCATION;VALUE=URI;X-ADDRESS=-\, Abu Dhabi\, United Arab
  Emirates;X-APPLE-RADIUS=100;X-TITLE=Abu Dhabi\, UAE:geo:0,0
END:VEVENT
BEGIN:VTIMEZONE
TZID:America/New_York
X-LIC-LOCATION:America/New_York
BEGIN:DAYLIGHT
DTSTART:20200308T030000
TZOFFSETFROM:-0500
TZOFFSETTO:-0400
TZNAME:EDT
END:DAYLIGHT
END:VTIMEZONE
END:VCALENDAR