BEGIN:VCALENDAR
VERSION:2.0
PRODID:-//wp-events-plugin.com//7.2.3.1//EN
TZID:America/New_York
X-WR-TIMEZONE:America/New_York
BEGIN:VEVENT
UID:1487@vydya.com
DTSTART;TZID=Asia/Kuala_Lumpur:20260507T090000
DTEND;TZID=Asia/Kuala_Lumpur:20260508T170000
DTSTAMP:20250617T141222Z
URL:https://www.vydya.com/events/pediatrics-conference-2026-malaysia/
SUMMARY:2nd International Conference on Pediatrics and Child Health
DESCRIPTION:We cordially welcome you to join the 2nd International Conferen
 ce on Pediatrics and Child Health\, scheduled for May 07–08\, 2026\, in 
 Kuala Lumpur\, Malaysia under the theme “From Prevention to Precision: G
 lobal Advances in Pediatric and Neonatal Care”.\n\nPediatric summit 2026
  will be a valuable platform for pediatricians\, researchers\, healthcare 
 professionals\, and academics to explore and share knowledge on the latest
  developments in child health and pediatric medicine.\n\nThe Pediatric Sum
 mit 2026 aims to bring together leading pediatricians\, neonatologists\, h
 ealthcare professionals\, researchers\, and policymakers from around the g
 lobe to share the latest advancements in pediatric and neonatal care. The 
 summit will focus on innovative strategies\, evidence-based practices\, an
 d emerging technologies that enhance the prevention\, diagnosis\, and trea
 tment of childhood and neonatal conditions.\nScientific Sessions\nNeonatol
 ogy and Perinatology\nAdvances in Neonatal Care\nNeonatal hearing disorder
 s\nGenetics and Genomic Medicine in Pediatrics\nDevelopmental and Behaviou
 ral Pediatrics\nChildhood Nutrition and Obesity\nPediatric Allergy and Imm
 unology\nPediatric Pulmonology\nPediatric Cardiology\nPediatric Gastroente
 rology\nPediatric Neurology\nPediatric Oncology\nPediatric Hematology\nPed
 iatric Rheumatology\nPediatric Infectious Diseases\nPediatric Nephrology &
 amp\; Urology\nPediatric Dermatology\nPediatric Surgery\nPediatric Emergen
 cy Medicine\nPediatric Pain Management and Palliative Care\nMental Health 
 in Children\nAdolescent Medicine\nPediatric Pharmacology\nPediatric Dentis
 try\nInnovations in Pediatric Health Care\nRecent Technology and Child Hea
 lth\n\n&nbsp\;
ATTACH;FMTTYPE=image/jpeg:https://www.vydya.com/wp-content/uploads/2025/06
 /2026-05-07-Pediatrics-Conference-Malaysia.jpg
CATEGORIES:Medical Conference,Pediatrics Conference
END:VEVENT
BEGIN:VTIMEZONE
TZID:Asia/Kuala_Lumpur
X-LIC-LOCATION:Asia/Kuala_Lumpur
BEGIN:STANDARD
DTSTART:20250507T090000
TZOFFSETFROM:+0800
TZOFFSETTO:+0800
TZNAME:+08
END:STANDARD
END:VTIMEZONE
END:VCALENDAR