BEGIN:VCALENDAR
VERSION:2.0
PRODID:-//wp-events-plugin.com//7.2.3.1//EN
TZID:America/New_York
X-WR-TIMEZONE:America/New_York
BEGIN:VEVENT
UID:533@vydya.com
DTSTART;TZID=America/New_York:20240513T090000
DTEND;TZID=America/New_York:20240514T180000
DTSTAMP:20230711T195349Z
URL:https://www.vydya.com/events/pediatrics-conference-2024-thailand/
SUMMARY:2nd International Conference on Pediatrics and Healthcare
DESCRIPTION:Scientex Conferences takes immense pleasure to invite all the r
 esearchers and scientists from all over the world to join “2nd Internati
 onal Conference on Pediatrics and Healthcare" which is going to be held fr
 om May 13-14\, 2024 in Bangkok\, Thailand. The global congress will be bas
 ed on the theme "The Universal Approach for the Excellence in Pediatric Re
 search" which aims to learn more about pediatrics\, healthcare and related
  research.\n\nIt's a great opportunity for specialists in child developmen
 t and other fields to connect with one another\, highlight latest findings
 \, and provide treatments for various ailments affecting children. We are 
 delighted to get to know each other and look forward to the great Pediatri
 cs 2024\, which can be attended remotely or in Bangkok\, Thailand.\nConfer
 ence Scientific Sessions\nNeonatology\nPediatric Otolaryngology\nPediatric
  Dermatology\nPediatric Dentistry\nPediatric Pulmonology and Heart Disease
 \nPediatric Nutrition\nPediatric Gastroenterology\nPediatric Nephrology\nP
 ediatric Endocrinology\nPediatric Orthopedics\nPediatric Surgery\nPediatri
 c Oncology\nPediatric Infectious Disease\nChild Psychology and Mental Heal
 th\nPediatric Pharmacology\nPediatric Healthcare and Nursing\nPediatric Em
 ergency Medicine and Critical Care\nHealthcare and Midwifery\nWomen Health
 care\nPreventive Medicine and Community Health\nClinical case study of Ped
 iatric and Healthcare\n\n&nbsp\;
ATTACH;FMTTYPE=image/jpeg:https://www.vydya.com/wp-content/uploads/2023/07
 /2024-05-13-Pediatrics-Conference-Thailand-p.jpg
CATEGORIES:Medical Conference,Pediatrics Conference
END:VEVENT
BEGIN:VTIMEZONE
TZID:America/New_York
X-LIC-LOCATION:America/New_York
BEGIN:DAYLIGHT
DTSTART:20240310T030000
TZOFFSETFROM:-0500
TZOFFSETTO:-0400
TZNAME:EDT
END:DAYLIGHT
END:VTIMEZONE
END:VCALENDAR