BEGIN:VCALENDAR
VERSION:2.0
PRODID:-//wp-events-plugin.com//7.2.3.1//EN
TZID:America/New_York
X-WR-TIMEZONE:America/New_York
BEGIN:VEVENT
UID:323@vydya.com
DTSTART;TZID=America/New_York:20220307T090000
DTEND;TZID=America/New_York:20220308T180000
DTSTAMP:20211110T203947Z
URL:https://www.vydya.com/events/pediatric-ophthalmology-2022/
SUMMARY:7th Global Pediatric Ophthalmology Congress
DESCRIPTION:Pediatric Ophthalmology 2022 Scientific Committee will be honor
 ed to welcome you to the 7th Global Pediatric Ophthalmology Congress to be
  held during March 07-08\, 2022 Barcelona\, Spain.\n\n7th Global Pediatric
  Ophthalmology Congress will raise the most dynamic and latest issues in t
 he field of Pediatric Ophthalmology. The Congress will highlight the discu
 ssion around the theme “Unmasking Pediatric Ophthalmology &amp\; Strabis
 mus by Rethinking\, Recreating and Reimagining” by bridging the gaps bet
 ween the intellectuals from across the globe to enlighten their research a
 nd findings at Pediatric Ophthalmology 2022. The highlights of the confere
 nce include Pediatric Ophthalmology &amp\; pediatric cataract surgery\, pe
 diatric optometry\, pediatric strabismus\, pediatric glaucoma\, retina and
  retinal disorders\, cataract diabetes\, optometry and vision science and 
 many more.\n\nPediatric Ophthalmology is a subspecialty of ophthalmology m
 anaging youngster's eye infections. The human visual framework creates as 
 the mind develops a procedure that takes around ten years. In spite of the
  fact that an infant's eyes are optically equipped for seeing\, new born c
 hild vision is restricted to around 20/1500 (the capacity to see the state
 s of individuals yet not their elements)\, to some degree in light of the 
 fact that the cerebrum has not figured out how to handle the visual messag
 es it gets. As visual advancement continues\, that same youngster will in 
 the end have the capacity to recognize the finest subtle elements in a pic
 ture.\nConference Sessions\nPediatric Ophthalmology\nPediatric Cataract Su
 rgery\nPediatric Optometry\nPediatric Strabismus\nRetina and Retinal Disor
 ders\nPediatric Glaucoma\nPediatric Neuro-Ophthalmology\nAmblyopia (Lazy E
 ye)\nOcular Oncology\nCataract Diabetes\nAge-related macular degeneration 
 (AMD)\nOptometry and Vision Science\nOphthalmic Research and Drug Developm
 ent\nProtective Eye Care and New advancements\nAdvanced Vision Science\nRe
 fractive Errors and Management\nPediatric Contact Lens\nVision Screening\n
 Low Vision\nReconstructive &amp\; Functional Oculoplastics\nDissociated ve
 rtical deviation (DVD)
ATTACH;FMTTYPE=image/jpeg:https://www.vydya.com/wp-content/uploads/2021/11
 /2022-03-07-Pediatric-Ophthalmology-Congress-Spain.jpg
CATEGORIES:Medical Conference,Ophthalmology Conference
END:VEVENT
BEGIN:VTIMEZONE
TZID:America/New_York
X-LIC-LOCATION:America/New_York
BEGIN:STANDARD
DTSTART:20211107T010000
TZOFFSETFROM:-0400
TZOFFSETTO:-0500
TZNAME:EST
END:STANDARD
END:VTIMEZONE
END:VCALENDAR