BEGIN:VCALENDAR
VERSION:2.0
PRODID:-//wp-events-plugin.com//7.2.3.1//EN
TZID:America/New_York
X-WR-TIMEZONE:America/New_York
BEGIN:VEVENT
UID:194@vydya.com
DTSTART;TZID=America/New_York:20200928T000000
DTEND;TZID=America/New_York:20200929T000000
DTSTAMP:20200205T033741Z
URL:https://www.vydya.com/events/nutraceuticals-2020/
SUMMARY:2nd World Congress on Advanced Nutraceuticals and Functional Foods
DESCRIPTION:Nutraceuticals 2020 delighted to conduct an innovation program 
 for Nutraceuticals and Pharmaceuticals researchers which will be “2nd Wo
 rld congress on Advanced Nutraceuticals and Functional Foods” with the s
 uccessful edition of “Nutraceuticals 2019”. The conference “Nutraceu
 ticals 2020” has been scheduled on September 28-29\, 2020 at Edinburgh\,
  Scotland in the theme of “Modification of Lifestyle by Innovation in Nu
 traceuticals medicine”.\n\n“Nutraceuticals 2020” will be a handshake
  for innovators\, researchers\, manufacturers\, scientists\, CEO\, Directo
 r\, Principal Scientists\, Marketers and students in the field on Nutraceu
 ticals\, Pharmaceuticals\, Functional Foods\, Nutrition\, Dietitian\, Food
  technology\, Food science\, medicine and healthcare professionals.\nConfe
 rence Sessions\nNutraceutical\nNutrition and Health\nDietary Supplements a
 nd dietary fibres\nMedical Foods\nFunctional foods\nPharmaceuticals Vs Nut
 raceuticals\nMultivitamin Supplements\nHerbal Medicine\nTraditional Medici
 ne\nBioactive Nutraceuticals\nNutricosmetics\nPrebiotic and Probiotics\nRo
 le of Nutraceuticals in Health Care\nNutraceuticals in Cancer Therapy\nNut
 raceuticals for Cardiovascular health\nNutraceuticals in Weight Management
 \nRestorative&amp\; Alternative Medicine\nRecent Trends in Nutraceuticals 
 Research\nMarine Nutraceuticals\nRole of Functional Foods\nNutraceuticals 
 in Pediatric and Child health\nNutraceuticals in Gynaecology and maternal 
 health\nNutraceuticals for Diabetes mellitus theraphy\nNutraceuticals Mark
 et-Growth Trends and research\nVeterinary Nutraceuticals
ATTACH;FMTTYPE=image/jpeg:https://www.vydya.com/wp-content/uploads/2020/02
 /2020-09-28-Nutraceuticals-Congress-Edinburgh.jpg
CATEGORIES:Medical Conference,Nutrition Conference
LOCATION:Edinburgh\, Scotland\, -\, Edinburgh\, Scotland\, United Kingdom
X-APPLE-STRUCTURED-LOCATION;VALUE=URI;X-ADDRESS=-\, Edinburgh\, Scotland\, 
 United Kingdom;X-APPLE-RADIUS=100;X-TITLE=Edinburgh\, Scotland:geo:0,0
END:VEVENT
BEGIN:VTIMEZONE
TZID:America/New_York
X-LIC-LOCATION:America/New_York
BEGIN:DAYLIGHT
DTSTART:20200308T030000
TZOFFSETFROM:-0500
TZOFFSETTO:-0400
TZNAME:EDT
END:DAYLIGHT
END:VTIMEZONE
END:VCALENDAR