BEGIN:VCALENDAR
VERSION:2.0
PRODID:-//wp-events-plugin.com//7.2.3.1//EN
TZID:America/New_York
X-WR-TIMEZONE:America/New_York
BEGIN:VEVENT
UID:1120@vydya.com
DTSTART;TZID=America/New_York:20251110T090000
DTEND;TZID=America/New_York:20251111T180000
DTSTAMP:20250321T204531Z
URL:https://www.vydya.com/events/nursing-education-2025-barcelona-spain/
SUMMARY:17th Global Summit on Nursing Education & Health Care
DESCRIPTION:We are pleased to invite you to the 17th Global Summit on Nursi
 ng Education &amp\; Healthcare in beautiful Barcelona\, Spain\, on Novembe
 r 10-11\, 2025. This prestigious event will provide a platform for interdi
 sciplinary discussions and exchange of ideas among experts\, practitioners
 \, and leaders in the nursing and healthcare sectors.\nConference Scientif
 ic Sessions\nAdult Health Nursing\nAdvances In Nursing Practice\nAI and Em
 erging Technologies in Nursing\nAnesthesia and PeriAnesthesia Nursing\nBur
 nout\, Well-Being\, and Resilience in Nursing\nCancer &amp\; Cardiac Nursi
 ng\nChild and Adolescent Mental Health\nClinical Nursing\nCommunity and Ho
 me Health Nursing\nCritical And Intensive Care Nursing\nDental Nursing\nEm
 ergency Nursing and Ambulatory Care Nursing\nEnvironmental Health Nursing\
 nEpidemiology and Community Health\nEvidence-Based Nursing\nFamily Partici
 patory Care\nForensic and Legal Nursing\nFuture of Nursing\nGeriatric &amp
 \; Pediatric Nursing\nGlobalization and Health\nGynecology and Obstetrics 
 Nursing\nHealth Economics and Public Health\nHealthcare Management\nHolist
 ic and Integrative Nursing\nHospice and Palliative Nursing\nImproving Pati
 ent Education\, Care &amp\; Outcomes\nLeadership and Professional Developm
 ent\nMedical Surgical Nursing\nMen in Nursing\nMidwifery and Women Health 
 Nursing\nNational Health System\nNurse Practitioners Perspectives\nNursing
  and Healthcare\nNursing and Infectious Disease\nNursing Education &amp\; 
 Research\nNursing Ethics\, Legal Aspects\, and Patient Advocacy\nNursing i
 n Different Fields and Specialties\nNursing Informatics &amp\; Technology\
 nNursing Leadership &amp\; Management\nNursing Practice &amp\; Safety\nObs
 tetrics and Gynecology Nursing\nOccupational Health Nursing\nPain Manageme
 nt &amp\; Preventive Medicine\nPatient safety\nPrimary Healthcare and Rura
 l Health\nPsychiatric &amp\; Mental Health Nursing\nPsychological Nursing\
 nPublic Health Nursing\nRehabilitation Nursing\nRisk Factors in Nursing an
 d Healthcare Professionals\nTranscultural Nursing\nTrauma and Critical Car
 e\nVeterinary Nursing\nWorkforce Development and Retention in Nursing
ATTACH;FMTTYPE=image/jpeg:https://www.vydya.com/wp-content/uploads/2025/03
 /2025-11-10-Nursing-Education-Conference-Spain-p.jpg
CATEGORIES:Medical Conference,Nursing Conference
END:VEVENT
BEGIN:VTIMEZONE
TZID:America/New_York
X-LIC-LOCATION:America/New_York
BEGIN:STANDARD
DTSTART:20251102T010000
TZOFFSETFROM:-0400
TZOFFSETTO:-0500
TZNAME:EST
END:STANDARD
END:VTIMEZONE
END:VCALENDAR