BEGIN:VCALENDAR
VERSION:2.0
PRODID:-//wp-events-plugin.com//7.2.3.1//EN
TZID:America/New_York
X-WR-TIMEZONE:America/New_York
BEGIN:VEVENT
UID:385@vydya.com
DTSTART;TZID=America/New_York:20221017T090000
DTEND;TZID=America/New_York:20221018T180000
DTSTAMP:20220705T192800Z
URL:https://www.vydya.com/events/nursing-education-2022-conference-2/
SUMMARY:30th International Conference on World Nursing Education
DESCRIPTION:It is our deep pleasure to invite all the Great Scientists\, Ac
 ademicians\, Young Researchers\, Professors\, Doctors\, Business Delegates
 \, Nurses\, Delegates and Students moreover who are the front line of warr
 iors in this pandemic situation from all over the world to attend the 30th
  International Conference on World Nursing Education which will be held Oc
 otber 17-18\, 2022 in Barcelona\, Spain.\n\nThe main theme of the conferen
 ce is "Explore latest Challenges and Innovations and Advancements in Nursi
 ng Education".\n\nWorld Nursing Education 2022 shares an insight into the 
 recent research and cutting edge technologies\, which gains immense intere
 st with the colossal and exuberant presence of a Professors\, Doctors\, an
 d Talented student communities and Primary Health Care meeting’s goal is
  to bring together\, a multi-disciplinary group of Scientists and Research
 ers\, Professors\, Doctors\, Nurses from all over the world are invited co
 rdially to present and exchange break-through ideas relating to the and Nu
 rsing Care and Primary Health Care promotes top level research and to glob
 alize the quality research in general\, thus making discussions\, presenta
 tions more internationally competitive and focusing attention on the recen
 t outstanding breakthroughs in the field of World Nursing Education 2022 a
 nd Primary Health Care and future trends and needs\nConference Scientific 
 Sessions\nNursing Education\nHealth Care\nInnovations in Nursing Education
 \nNurse Practitioner\nPsychiatric and Mental Health Nursing\nImportance of
  psychology in Nursing\nCardiovascular Nursing\nSurgical Nursing\nNursing 
 Informatics\nGastrointestinal Nursing\nDental Nursing\nNursing Management\
 nCancer and Tumor Nursing\nPediatric Nursing\nWomen Health Nursing\nClinic
 al Nursing\nOrthopedic Nursing\nNeuroscience Nursing\nGeriatric Nursing\nN
 eo natal Intensive care\nGerontology Nursing
ATTACH;FMTTYPE=image/jpeg:https://www.vydya.com/wp-content/uploads/2022/07
 /2022-10-17-Nursing-Conference-Barcelona.jpg
CATEGORIES:Medical Conference,Nursing Conference
END:VEVENT
BEGIN:VTIMEZONE
TZID:America/New_York
X-LIC-LOCATION:America/New_York
BEGIN:DAYLIGHT
DTSTART:20220313T030000
TZOFFSETFROM:-0500
TZOFFSETTO:-0400
TZNAME:EDT
END:DAYLIGHT
END:VTIMEZONE
END:VCALENDAR