BEGIN:VCALENDAR
VERSION:2.0
PRODID:-//wp-events-plugin.com//7.2.3.1//EN
TZID:America/New_York
X-WR-TIMEZONE:America/New_York
BEGIN:VEVENT
UID:153@vydya.com
DTSTART;TZID=America/New_York:20200624T090000
DTEND;TZID=America/New_York:20200625T180000
DTSTAMP:20191201T200834Z
URL:https://www.vydya.com/events/mental-health-2020/
SUMMARY:2nd World Congress on Mental Health
DESCRIPTION:Followed by the successful completion of “World Congress on M
 ental Health”\, we would be glad to announce our next series “2nd Worl
 d Congress on Mental Health” scheduled on June 24-25\, 2020 at Paris\, F
 rance. The objective of the conference is to gather all the Mental Health 
 professionals and to traverse the advancements that are confronting in the
  field of Mental Health and Psychology.\n\nThe conference will be an exper
 ience for its informative symposia\, seminars and excellent keynote worksh
 ops by well recognized experts in the field. It will also prove a brillian
 t open door for university and institute members to partner with internati
 onally recognized academics and to provide companies interested in extendi
 ng their global market scope.\n\nConference Sessions\n\nMental Health\nWom
 en Mental Health\nChild and Adolescent Mental Health\nPsychology and Psych
 iatry\nPsychological Resilience\nPsychological Disorder\nBipolar Disorder\
 nPsychosis Disorder\nEating Disorder\nAutism\nSchizophrenia\nAddiction\nSt
 ress\, Anxiety and Depression\nPost Traumatic Disorder\nObsessive Compulsi
 ve Disorder\nPersonality Disorder\nRecovery and Rehabilitation\nMental Hea
 lth Therapies
ATTACH;FMTTYPE=image/jpeg:https://www.vydya.com/wp-content/uploads/2019/12
 /2020-06-24-Mental-Health-Congress-Paris.jpg
CATEGORIES:Medical Conference
LOCATION:Paris\, France\, -\, Paris\, -\, -\, France
X-APPLE-STRUCTURED-LOCATION;VALUE=URI;X-ADDRESS=-\, Paris\, -\, -\, France;
 X-APPLE-RADIUS=100;X-TITLE=Paris\, France:geo:0,0
END:VEVENT
BEGIN:VTIMEZONE
TZID:America/New_York
X-LIC-LOCATION:America/New_York
BEGIN:DAYLIGHT
DTSTART:20200308T030000
TZOFFSETFROM:-0500
TZOFFSETTO:-0400
TZNAME:EDT
END:DAYLIGHT
END:VTIMEZONE
END:VCALENDAR