BEGIN:VCALENDAR
VERSION:2.0
PRODID:-//wp-events-plugin.com//7.2.3.1//EN
TZID:America/New_York
X-WR-TIMEZONE:America/New_York
BEGIN:VEVENT
UID:144@vydya.com
DTSTART;TZID=America/New_York:20200420T090000
DTEND;TZID=America/New_York:20200421T180000
DTSTAMP:20191122T152208Z
URL:https://www.vydya.com/events/international-conference-on-aging-health/
SUMMARY:International Conference on Aging & Health
DESCRIPTION:We welcome all the enthusiastic researchers from all around the
  world to join us for the International Conference on Aging &amp\; Health 
 scheduled in Singapore City\, Singapore during April 20-21\, 2020. The sum
 mit will move forward with the theme “Promoting Wellness for a Healthy A
 ging”.\n\nAging &amp\; Health 2020 will be a meeting ground for research
 ers and enthusiastic from around the globe to discuss the recent developme
 nts as well as the future roadmap for a healthy society. The organizing co
 mmittee welcomes all to join the summit and share their vision.\nConferenc
 e Sessions\nSocial Theories of Aging\nImmune System and Aging\nAging Demog
 raphics\nEnvironmental Gerontology\nAging and Depression\nWomen and Aging\
 nGeriatric Care\nAging and Mobility\nOld Age Nutrition\nAlzheimer Disease 
 and Care\nTechnology and Healthcare\nElder Abuse and Society
ATTACH;FMTTYPE=image/jpeg:https://www.vydya.com/wp-content/uploads/2019/11
 /2020-04-Aging-Conference-Singapore.jpg
CATEGORIES:Medical Conference
LOCATION:Singapore\, -\, Singapore\, Singapore
X-APPLE-STRUCTURED-LOCATION;VALUE=URI;X-ADDRESS=-\, Singapore\, Singapore;X
 -APPLE-RADIUS=100;X-TITLE=Singapore:geo:0,0
END:VEVENT
BEGIN:VTIMEZONE
TZID:America/New_York
X-LIC-LOCATION:America/New_York
BEGIN:DAYLIGHT
DTSTART:20200308T030000
TZOFFSETFROM:-0500
TZOFFSETTO:-0400
TZNAME:EDT
END:DAYLIGHT
END:VTIMEZONE
END:VCALENDAR