BEGIN:VCALENDAR
VERSION:2.0
PRODID:-//wp-events-plugin.com//7.2.3.1//EN
TZID:America/New_York
X-WR-TIMEZONE:America/New_York
BEGIN:VEVENT
UID:462@vydya.com
DTSTART;TZID=America/New_York:20230130T090000
DTEND;TZID=America/New_York:20230131T180000
DTSTAMP:20221223T181916Z
URL:https://www.vydya.com/events/human-genome-2023-conference/
SUMMARY:16th International Conference on Human Genomics and Genomic Medicin
 e
DESCRIPTION:ME Conferences welcome all the participants globally to the upc
 oming conference “16th World Conference on Human Genomics and Genomic Me
 dicine” scheduled on January 30-31\, 2023 which is going to be held as a
 n Barcelona\, Spain. “HUMAN GENOME 2023” gives an Excellence Overview 
 on the related topics and cordially invites all the participants from Gene
 tic Experts\, Genetic Counsellors Professionals and Community Health Educa
 tors\, Genetic Mutations Associations\, Doctors\, Healthcare Professionals
  to interact with Experienced and well qualified people to explore their e
 xcellence. This conference specially focuses on genetic stimulations\, mut
 ations and development activities in human body.\nConference Scientific Se
 ssions\nGenomics\nGenetically Modified Organisms\nHuman Genetics\nGenomic 
 Vaccination\nEpigenetics Biomarkers\nHuman Gene Therapy\nInfectious Diseas
 es\nBioinformatics\nGenome Mapping\nPreimplantation Genetic Diagnosis\nPha
 rma Genomics &amp\; Pharma Informatics\nDrug Detection &amp\; Development 
 in Bioinformatics\nComputational Biology\nGenomic Approach to Drug Discove
 ry\nMedicine Genomics\nPersonalized Medicine\nCancer Genomics\nCognitive C
 omputing\nGenomic Information in Medicine\nEmergency Medicine
ATTACH;FMTTYPE=image/jpeg:https://www.vydya.com/wp-content/uploads/2022/12
 /2023-01-30-Genomics-Conference-Barcelona-p.jpg
CATEGORIES:Medical Conference,Research &amp; Development
END:VEVENT
BEGIN:VTIMEZONE
TZID:America/New_York
X-LIC-LOCATION:America/New_York
BEGIN:STANDARD
DTSTART:20221106T010000
TZOFFSETFROM:-0400
TZOFFSETTO:-0500
TZNAME:EST
END:STANDARD
END:VTIMEZONE
END:VCALENDAR