BEGIN:VCALENDAR
VERSION:2.0
PRODID:-//wp-events-plugin.com//7.2.3.1//EN
TZID:America/New_York
X-WR-TIMEZONE:America/New_York
BEGIN:VEVENT
UID:93@vydya.com
DTSTART;TZID=Europe/Rome:20200224T090000
DTEND;TZID=Europe/Rome:20200225T180000
DTSTAMP:20190813T062750Z
URL:https://www.vydya.com/events/global-hematology-2020/
SUMMARY:5th International Conference on Clinical Hematology and Transfusion
  Medicine
DESCRIPTION:We are honored to welcome you to attend the “5th Internationa
 l Conference on Clinical Hematology and Transfusion Medicine” which is g
 oing to be held on 24-25 February\, 2020 at Rome\, Italy. Theme of the con
 ference is Breakthrough notions in Hematology and Transfusion Medicines th
 at incorporates prompt keynote presentations\, Oral talks\, Poster display
 s and Exhibitions.\nConference Sessions\nHematology\nVascular Blood Disord
 ers\nCardio-Oncohematology\nHematology Case Reports\nHematology and Neurol
 ogy\nHematologic Cancers\nBlood Syndromes: Diagnosis and Treatment\nOrgan 
 Specific Cancer\nStem Cell Therapy\nCord Blood Transplantation\nClinical H
 aematology\nBiomarkers in Hematology and Oncology\nDiagnosis and Screening
  of Hematology\nImmunohematology\nHematology and Pharma Industry\nTransfus
 ion Medicines\nPediatric Hematology
ATTACH;FMTTYPE=image/jpeg:https://www.vydya.com/wp-content/uploads/2019/08
 /2020-02-24-Hematology-Conference-Rome.jpg
CATEGORIES:Medical Conference
LOCATION:Rome\, Italy\, -\, Rome\, Italy
X-APPLE-STRUCTURED-LOCATION;VALUE=URI;X-ADDRESS=-\, Rome\, Italy;X-APPLE-RA
 DIUS=100;X-TITLE=Rome\, Italy:geo:0,0
END:VEVENT
BEGIN:VTIMEZONE
TZID:Europe/Rome
X-LIC-LOCATION:Europe/Rome
BEGIN:STANDARD
DTSTART:20191027T020000
TZOFFSETFROM:+0200
TZOFFSETTO:+0100
TZNAME:CET
END:STANDARD
END:VTIMEZONE
END:VCALENDAR