BEGIN:VCALENDAR
VERSION:2.0
PRODID:-//wp-events-plugin.com//7.2.3.1//EN
TZID:America/New_York
X-WR-TIMEZONE:America/New_York
BEGIN:VEVENT
UID:2039@vydya.com
DTSTART;TZID=Asia/Singapore:20260309T090000
DTEND;TZID=Asia/Singapore:20260310T180000
DTSTAMP:20251103T225531Z
URL:https://www.vydya.com/events/global-congress-on-health-care-medical-in
 novation/
SUMMARY:Global Congress on Health Care & Medical Innovation
DESCRIPTION:The HealthCon 2026\, scheduled to take place on March 09–10\,
  2026 in Singapore City\, Singapore is not just another medical gathering 
 — it’s a cross-disciplinary hub for healthcare leaders\, innovators\, 
 and visionaries who are shaping the future of medicine. This conference go
 es beyond traditional boundaries by bringing together professionals from c
 linical care\, biotechnology\, digital health\, health equity\, public pol
 icy\, and AI-driven health systems.\n\nThis is where ideas turn into actio
 n — from hospital hallways to health tech labs and underserved rural com
 munities.\n\nWhat Makes This Conference Unique?\n\nInterdisciplinary Focus
 :\nNot just doctors and researchers — meet AI experts\, health economist
 s\, digital innovators\, policy-makers\, and patient advocates\, all under
  one roof.\nLive Innovation Showcases:\nExperience real-time demos of disr
 uptive health technologies including telemedicine platforms\, wearable dev
 ices\, predictive analytics\, and robotics.\nGlobal Health Equity Spotligh
 t:\nDedicated sessions on access to healthcare\, gender disparities\, rura
 l health delivery\, and community-based models from emerging countries.\nS
 tartup Pitch Arena &amp\; Innovation Lab:\nHealth-tech startups pitch thei
 r solutions to global investors and decision-makers in an interactive and 
 collaborative setting.\nImmersive Workshops:\nHands-on sessions covering e
 verything from clinical AI integration\, electronic health records optimiz
 ation\, to trauma-informed care practices.\nSustainability in Healthcare:\
 nExplore sustainable healthcare infrastructure and green hospital design t
 hrough real-world case studies and expert panels.\nConference Scientific S
 essions\nAI &amp\; Machine Learning in Healthcare\nDigital Twins in Medici
 ne\nWearables\, Biosensors &amp\; Remote Patient Monitoring\nTelemedicine 
 &amp\; Virtual Health Ecosystems\nPrecision Medicine &amp\; Genomic Health
 care\nCell &amp\; Gene Therapies: Next-Gen Medical Breakthroughs\nNanotech
 nology in Drug Delivery &amp\; Diagnostics\n3D Printing &amp\; Bioprinting
  in Healthcare\nRobotics &amp\; Minimally Invasive Surgery\nRegenerative M
 edicine &amp\; Stem Cell Therapies\nBig Data &amp\; Real-World Evidence in
  Medical Innovation\nBlockchain in Healthcare &amp\; Supply Chain Security
 \nSmart Hospitals &amp\; IoT in Healthcare\nMental Health Innovations &amp
 \; Digital Therapeutics\nImmunotherapy &amp\; Advanced Biologics\nSustaina
 ble &amp\; Green Healthcare Practices\nGlobal Health Equity &amp\; Access 
 to Innovation\nHealthcare Policy\, Ethics &amp\; AI Governance\nClimate Ch
 ange\, Environment &amp\; Public Health\nFuture Horizons in Healthcare Inn
 ovation\n\n&nbsp\;
ATTACH;FMTTYPE=image/jpeg:https://www.vydya.com/wp-content/uploads/2025/10
 /2026-03-09-Medical-Innovation-Conference-Singapore-p.jpg
CATEGORIES:CPD Conference,Medical Conference
END:VEVENT
BEGIN:VTIMEZONE
TZID:Asia/Singapore
X-LIC-LOCATION:Asia/Singapore
BEGIN:STANDARD
DTSTART:20250309T090000
TZOFFSETFROM:+0800
TZOFFSETTO:+0800
TZNAME:+08
END:STANDARD
END:VTIMEZONE
END:VCALENDAR