BEGIN:VCALENDAR
VERSION:2.0
PRODID:-//wp-events-plugin.com//7.2.3.1//EN
TZID:America/New_York
X-WR-TIMEZONE:America/New_York
BEGIN:VEVENT
UID:2038@vydya.com
DTSTART;TZID=Asia/Singapore:20260309T090000
DTEND;TZID=Asia/Singapore:20260310T180000
DTSTAMP:20251103T222834Z
URL:https://www.vydya.com/events/global-congress-on-artificial-intelligenc
 e-and-digital-health/
SUMMARY:Global Congress on Artificial Intelligence and Digital Health
DESCRIPTION:The Global Congress on Artificial Intelligence and Digital Heal
 th(AI-HealthCon 2026)\, scheduled for March 09–10\, 2026 in Singapore\, 
 will serve as a premier platform to explore how cutting-edge technologies 
 are reshaping the future of healthcare. This international gathering will 
 bring together AI researchers\, digital health innovators\, clinicians\, p
 olicymakers\, and industry leaders to exchange insights on predictive diag
 nostics\, telemedicine\, digital therapeutics\, and intelligent healthcare
  ecosystems. With a strong focus on real-world applications\, ethical fram
 eworks\, and patient-centered innovation\, the congress will highlight how
  digital transformation is making healthcare smarter\, more efficient\, an
 d more inclusive across the globe.\n\nIt explores how technology is redefi
 ning the way we deliver and experience healthcare. Sessions delve into AI-
 powered diagnostics\, predictive analytics\, telemedicine platforms\, virt
 ual care models\, digital therapeutics\, and blockchain in healthcare secu
 rity. The event brings together data scientists\, digital health innovator
 s\, clinicians\, and policy experts to discuss real-world applications of 
 AI in disease prevention\, clinical decision-making\, and personalized med
 icine. Special emphasis is placed on ethics\, data privacy\, and regulator
 y frameworks for AI-driven care. With live demonstrations\, case studies\,
  and industry partnerships\, the conference creates a forward-looking ecos
 ystem where technology meets compassion\, ensuring digital innovation dire
 ctly benefits patient health.\n\nSingapore stands as one of the world’s 
 leading hubs for innovation\, healthcare\, and technology\, making it the 
 perfect destination for the Global Congress on Artificial Intelligence and
  Digital Health. Hosting the congress here ensures that participants are i
 mmersed in an environment that reflects the very essence of progress and g
 lobal connectivity. Beyond its role as a scientific and business hub\, Sin
 gapore is also a world-class destination for visitors\, Singapore is not j
 ust a conference venue—it is an experience.\nConference Scientific Sessi
 ons\nAI-Enabled Smart Stethoscopes\nAI as a Healthcare Cost Cutter\nBig Te
 ch in Healthcare AI\nChatbot Risks &amp\; Mental Health Safety\nGenerative
  AI with Clinical Contextual Awareness\nFederated Learning for Privacy-Pre
 serving AI\nRegTech for Health Compliance\nCloud-Native\, AI-Integrated EH
 R Systems\nPredictive Analytics for Hospital Operations\nDigital Therapeut
 ics (DTx) as Prescribable Software\nAI-Powered Mental Health Diagnostics\n
 Ethical\, Transparent &amp\; Trustworthy AI\nConversational &amp\; Agentic
  AI in Healthcare Workflows\nRemote Patient Monitoring (RPM) Advancements\
 nMetaverse\, AR/VR for Inclusive Health Access\nDigital Twins for Personal
 ized Medicine\nAutomation in Healthcare Administration\nCybersecurity with
  AI in Healthcare\nAI-Driven Health Coaching &amp\; Wellness in Consumer P
 roducts\nEthical Concerns in Neurotechnology and BCIs\n\n&nbsp\;
ATTACH;FMTTYPE=image/jpeg:https://www.vydya.com/wp-content/uploads/2025/10
 /2026-03-09-Digital-Health-Conference-Singapore-p.jpg
CATEGORIES:CPD Conference,Medical Conference
END:VEVENT
BEGIN:VTIMEZONE
TZID:Asia/Singapore
X-LIC-LOCATION:Asia/Singapore
BEGIN:STANDARD
DTSTART:20250309T090000
TZOFFSETFROM:+0800
TZOFFSETTO:+0800
TZNAME:+08
END:STANDARD
END:VTIMEZONE
END:VCALENDAR