BEGIN:VCALENDAR
VERSION:2.0
PRODID:-//wp-events-plugin.com//7.2.3.1//EN
TZID:America/New_York
X-WR-TIMEZONE:America/New_York
BEGIN:VEVENT
UID:470@vydya.com
DTSTART;TZID=America/New_York:20230417T090000
DTEND;TZID=America/New_York:20230418T180000
DTSTAMP:20221228T163710Z
URL:https://www.vydya.com/events/european-immunology-2023-conference/
SUMMARY:17th International Conference on European Immunology
DESCRIPTION:We take the privilege of hosting European Immunology Conference
  worldwide and very excited to expand our 17th International Conference on
  European Immunology to be held in beautiful city Rome\, Italy in the mont
 h of April 17-18\, 2023. As with the many meetings\, the European Immunolo
 gy 2023 will be on high-level updates\, debates\, hot topics and future re
 search directions in the areas of Immunology\, Immune System\, Cancer Immu
 nology and Immunotherapy\, Immunotoxicology Neuroimmunology\, Transplantat
 ion Immunology and many more…\n\nThis format has proven to be extremely 
 popular with Clinicians and researchers\, Heads\, Deans and Professors of 
 Immunology or Immunotherapy departments. I do hope you will mark this date
  in your calendar\, check the website for updates and join us in Rome for 
 what promises to be another exciting\, cutting edge exploration of the lat
 est advances in Immunology and Immunotherapy.\n\nTheme of the conference: 
 Role of Immune System towards Infectious Diseases and Viral Pandemics\nCon
 ference Scientific Sessions\nImmunology\nImmune System\nCancer Immunology 
 and Immunotherapy\nImmunotoxicology\nNeuroimmunology\nImmunodeficiency\nEp
 idemiology\nTransplantation Immunology\nImmunotherapy\nImmunoinformatics &
 amp\; Systems Immunology\nImmunological Techniques\nImmunogenetics\nPediat
 rics Immunology\nDiagnostic and Technological Novelty of Immunology\nViral
  Immunology\nParasite Immunology\nReproductive Immunology
ATTACH;FMTTYPE=image/jpeg:https://www.vydya.com/wp-content/uploads/2022/12
 /2023-04-17-Immunology-ConferenceRome-s.jpg
CATEGORIES:Medical Conference,Research &amp; Development
END:VEVENT
BEGIN:VTIMEZONE
TZID:America/New_York
X-LIC-LOCATION:America/New_York
BEGIN:DAYLIGHT
DTSTART:20230312T030000
TZOFFSETFROM:-0500
TZOFFSETTO:-0400
TZNAME:EDT
END:DAYLIGHT
END:VTIMEZONE
END:VCALENDAR