BEGIN:VCALENDAR
VERSION:2.0
PRODID:-//wp-events-plugin.com//7.2.3.1//EN
TZID:America/New_York
X-WR-TIMEZONE:America/New_York
BEGIN:VEVENT
UID:539@vydya.com
DTSTART;TZID=America/New_York:20240318T090000
DTEND;TZID=America/New_York:20240319T180000
DTSTAMP:20230721T152614Z
URL:https://www.vydya.com/events/euro-dentistry-2024-conference/
SUMMARY:33rd Euro Dentistry Congress
DESCRIPTION:The 33rd Euro Dentistry Congress is set to take place on March 
 18-19\, 2024\, in the captivating city of Paris\, France. This highly anti
 cipated event will bring together dental professionals\, researchers\, aca
 demics\, and industry leaders from around the globe to exchange knowledge\
 , share insights\, and explore the latest advancements in the field of den
 tistry.\n\nHosted in one of the world's most iconic cities\, the congress 
 offers an exceptional opportunity for attendees to immerse themselves in a
  rich scientific program\, featuring renowned keynote speakers\, interacti
 ve workshops\, panel discussions\, and poster presentations. Participants 
 will have the chance to delve into a wide range of topics\, including prev
 entive dentistry\, oral health care\, cosmetic dentistry\, dental implants
 \, orthodontics\, and much more.\n\nThe 33rd Euro Dentistry Congress aims 
 to foster collaboration and provide a platform for networking among dental
  professionals\, researchers\, and industry experts. Attendees will have t
 he chance to connect with peers\, exchange ideas\, and establish lasting p
 rofessional relationships that can shape the future of dentistry.\n\nIn ad
 dition to the scientific program\, the congress will also showcase the lat
 est dental products\, technologies\, and innovations through an extensive 
 exhibition. Industry exhibitors will present cutting-edge solutions and ad
 vancements that can enhance dental practice and patient care.\n\nParis\, w
 ith its rich history\, exquisite architecture\, and culinary delights\, pr
 ovides a perfect backdrop for this prestigious event. Participants will ha
 ve the opportunity to explore the city's iconic landmarks\, indulge in its
  vibrant culture\, and experience the unique blend of history and modernit
 y.\n\nDon't miss the chance to be part of the 33rd Euro Dentistry Congress
  in Paris\, where the brightest minds in dentistry will converge to shape 
 the future of oral health.\nConference Scientific Sessions\nDental Biomate
 rials\nDigital Dentistry\nImplant Dentistry\nMinimally Invasive Dentistry\
 nOral Health and Systemic Connections\nOral Cancer\nRegenerative Dentistry
 \nOral Microbiome\nPediatric Dentistry\nOral Health Disparities\nArtificia
 l Intelligence in Dentistry\nPrecision Dentistry\nDental Stem Cell Therapy
 \nDental Implant Surfaces and Osseointegration\n3D Printing in Dentistry\n
 Dental Education and Technology\nDental Public Health\nDental Industry Tre
 nds and Market Analysis\n\n&nbsp\;
ATTACH;FMTTYPE=image/jpeg:https://www.vydya.com/wp-content/uploads/2023/07
 /2024-03-18-Dentistry-Conference-Parisp.jpg
CATEGORIES:Dental Conference
END:VEVENT
BEGIN:VTIMEZONE
TZID:America/New_York
X-LIC-LOCATION:America/New_York
BEGIN:DAYLIGHT
DTSTART:20240310T030000
TZOFFSETFROM:-0500
TZOFFSETTO:-0400
TZNAME:EDT
END:DAYLIGHT
END:VTIMEZONE
END:VCALENDAR