BEGIN:VCALENDAR
VERSION:2.0
PRODID:-//wp-events-plugin.com//7.2.3.1//EN
TZID:America/New_York
X-WR-TIMEZONE:America/New_York
BEGIN:VEVENT
UID:713@vydya.com
DTSTART;TZID=America/New_York:20250526T090000
DTEND;TZID=America/New_York:20250527T180000
DTSTAMP:20241121T141249Z
URL:https://www.vydya.com/events/dietetics-conference-2025-rome/
SUMMARY:4th International Conference on Clinical Nutrition & Dietetics
DESCRIPTION:The 4rd International Conference on Clinical Nutrition &amp\; D
 ietetics is a taking place on May 26-27\, 2025\, in the beautiful city of 
 Rome\, Italy. Offers a unique opportunity to engage with leading experts i
 n the field. Attendees will explore cutting-edge topics\, including nutrit
 ional interventions and personalized diet strategies\, while participating
  in hands-on workshops that enhance practical skills. The conference aims 
 to explore the latest advancements\, innovations\, and challenges in clini
 cal nutrition and dietetics\, addressing key topics such as nutritional th
 erapy\, dietary interventions\, and the impact of nutrition on health outc
 omes. Participants will have the opportunity to engage in insightful discu
 ssions\, attend informative sessions\, and present their research findings
  to an international audience.\n\nRenowned speakers and experts from aroun
 d the globe will share their expertise and shed light on emerging trends a
 nd best practices in clinical nutrition and dietetics. The conference will
  feature interactive workshops\, poster presentations\, and networking ses
 sions\, fostering collaboration and knowledge sharing among attendees. Thi
 s dynamic event brings together top experts and innovators to delve into t
 ransformative topics like cutting-edge nutritional interventions and the l
 atest advances in personalized diet strategies. Engage in hands-on worksho
 ps that offer practical skills you can apply immediately in your practice\
 , and network with a diverse community of healthcare professionals\, resea
 rchers\, and industry leaders from around the world. Share your own ground
  breaking research through abstract submissions and gain invaluable feedba
 ck. All of this takes place in the heart of Rome\, where the rich history 
 and vibrant culture create an inspiring backdrop for your learning and con
 nections.\n\nKeynote Speakers: Hear from renowned experts in epilepsy rese
 arch and treatment who will share their latest findings and perspectives o
 n the future of Clinical Nutrition\n\nClinical Updates: Stay informed abou
 t the latest clinical practices\, treatment guidelines\, and advancements 
 in drug development and medical devices. Workshops: Participate in hands-o
 n workshops designed to provide practical training on the latest technolog
 ies and techniques in epilepsy management.\nConference Scientific Sessions
 \nNutritional Interventions in Chronic Diseases\nPersonalized Nutrition an
 d Dietetics\nPaediatric Nutrition\nNutrition in Aging\nSports Nutrition\nM
 ental Health and Nutrition\nCultural and Ethnic Considerations in Dietetic
 s\nInnovations in Nutritional Science\nPublic Health Nutrition\nFood Safet
 y and Sustainability\nNutrition Education and Counselling\nPlant-Based Die
 ts and Veganism\nNutrition and Immune Function\nNutrition Policy and Advoc
 acy\nNutrition in the Workplace\nFood and Nutrition Security\nNutrition an
 d Mental Health\nGastrointestinal Health and Nutrition\nGlobal Nutrition C
 hallenges\nIntegrative Approaches to Nutrition
ATTACH;FMTTYPE=image/jpeg:https://www.vydya.com/wp-content/uploads/2024/11
 /2025-05-26-Dietetics-Conference-Rome.jpg
CATEGORIES:CME Conference,Medical Conference,Nutrition Conference
END:VEVENT
BEGIN:VTIMEZONE
TZID:America/New_York
X-LIC-LOCATION:America/New_York
BEGIN:DAYLIGHT
DTSTART:20250309T030000
TZOFFSETFROM:-0500
TZOFFSETTO:-0400
TZNAME:EDT
END:DAYLIGHT
END:VTIMEZONE
END:VCALENDAR