BEGIN:VCALENDAR
VERSION:2.0
PRODID:-//wp-events-plugin.com//7.2.3.1//EN
TZID:America/New_York
X-WR-TIMEZONE:America/New_York
BEGIN:VEVENT
UID:352@vydya.com
DTSTART;TZID=America/New_York:20220622T090000
DTEND;TZID=America/New_York:20220623T180000
DTSTAMP:20220309T221400Z
URL:https://www.vydya.com/events/dental-practice-2022-conference/
SUMMARY:12th Annual Conference on Dental Practice and Oral Health
DESCRIPTION:12th Annual Conference on Dental Practice and Oral Health is sc
 heduled for June 22-23\, 2022 in BOSTON\, USA. It will be encompassed with
  the theme “Upgrading innovative ideas in the field of Dental science an
 d oral care”. The main objective of Dental Practice 2022 is to provide a
  global platform for dentist’s surgeons\, Oral Care professionals\, heal
 th care professionals\, Professors\, Medical directors.\nConference Scient
 ific Sessions\nOral and Dental Health\nPediatric Dentistry\nGeriatric Dent
 istry\nOral Microbiology\nOral and Maxillofacial Surgery\nOrthodontics\nPr
 osthodontics\nDigital dentistry and Nano Dentistry\nOral Implantology\nDen
 tal Hygiene\nOral Cancer\nOral Medicine\nDental prosthesis\nOral Appliance
  Therapy\n3-D Imaging in Dentistry\nDental Sleep Medicine\nDental Implant\
 nDental Instruments\nPeriodontics\, Gingivitis\, Endodontics
ATTACH;FMTTYPE=image/jpeg:https://www.vydya.com/wp-content/uploads/2022/03
 /2022-06-22-Dental-Practice-Conference-USA.jpg
CATEGORIES:Dental Conference,Medical Conference
END:VEVENT
BEGIN:VTIMEZONE
TZID:America/New_York
X-LIC-LOCATION:America/New_York
BEGIN:DAYLIGHT
DTSTART:20220313T030000
TZOFFSETFROM:-0500
TZOFFSETTO:-0400
TZNAME:EDT
END:DAYLIGHT
END:VTIMEZONE
END:VCALENDAR