BEGIN:VCALENDAR
VERSION:2.0
PRODID:-//wp-events-plugin.com//7.2.3.1//EN
TZID:America/New_York
X-WR-TIMEZONE:America/New_York
BEGIN:VEVENT
UID:527@vydya.com
DTSTART;TZID=America/New_York:20240506T090000
DTEND;TZID=America/New_York:20240507T180000
DTSTAMP:20230623T151857Z
URL:https://www.vydya.com/events/breast-cancer-2024-conference/
SUMMARY:2nd International Conference on Women’s Health and Breast Cancer
DESCRIPTION:With the grand success of Breast Cancer 2023\, Scientex Confere
 nces graciously welcome all Medical &amp\; Clinical Oncologists\, Scientis
 ts\, Researchers\, Academicians\, Delegates\, and Professors around the gl
 obe to its prestigious event\, "2nd International Conference on Women’s 
 Health and Breast Cancer" happening on May 06-07\, 2024 in Bangkok\, Thail
 and. The conference revolves around the vibrant theme "Explore new frontie
 rs in Women's Health and Breast Cancer"\nConference Scientific Sessions\nW
 omen’s Healthcare\nWomen’s Nutrition\nBreast Cancer - Overview\nBreast
  Cancer during Pregnancy\nTomosynthesis Mammography\nTherapies for Breast 
 Cancer\nBreast Biopsies\nSurgery Choices for Breast Cancer\nBreast Reconst
 ruction\nBreast Cancer - Treatments &amp\; Side Effects\nSurvivorship Afte
 r Treatment\nMale Breast cancer\nCOVID-19 Impact on Breast Cancer\nGynecol
 ogy\nObstetrician &amp\; Midwifery\nBreast Cancer Prevention\nBreast Cance
 r Awareness\nPublic Health Education\nWomen's Health Issues and Policies\n
 Latest elevations in Oncology\n\n&nbsp\;
ATTACH;FMTTYPE=image/jpeg:https://www.vydya.com/wp-content/uploads/2023/06
 /2024-05-06-Breast-Cancer-Conference-Bangkok-p.jpg
CATEGORIES:Medical Conference,Oncology Conference
END:VEVENT
BEGIN:VTIMEZONE
TZID:America/New_York
X-LIC-LOCATION:America/New_York
BEGIN:DAYLIGHT
DTSTART:20240310T030000
TZOFFSETFROM:-0500
TZOFFSETTO:-0400
TZNAME:EDT
END:DAYLIGHT
END:VTIMEZONE
END:VCALENDAR