BEGIN:VCALENDAR
VERSION:2.0
PRODID:-//wp-events-plugin.com//7.2.3.1//EN
TZID:America/New_York
X-WR-TIMEZONE:America/New_York
BEGIN:VEVENT
UID:440@vydya.com
DTSTART;TZID=America/New_York:20230209T090000
DTEND;TZID=America/New_York:20230210T180000
DTSTAMP:20221122T044729Z
URL:https://www.vydya.com/events/biomedical-conference-2023/
SUMMARY:3rd International Congress on Biomedical and Bio Instrumentation (I
 CBBI)
DESCRIPTION:It is a tremendous honour for Biomedical Conference 2023 to ext
 end this invitation to the scientists\, researchers\, experts\, and delega
 tes from all around the world for this wonderful event that supports indiv
 idual care and cutting-edge research in the biomedical and bio instrumenta
 tion fields.\nConference Scientific Sessions\nBiomedical sciences\nBioinst
 rumentation\nBiomaterial\nBiomedicine\nBioengineering\nClinical engineerin
 g\nRehabilitation engineering\nBiomedical optics\nBio photonics\nMedical d
 evices\nHealth technology\nTissue engineering\nBiomedical research\nBio Me
 dical imaging\nBiosensor\nMedical Radiology\nBionics Implant\nNeural engin
 eering\nBioinformatics\nBiomechanics\nBiomedical Toxicology\nDiagnostic Ra
 diology\nInterventional Radiology
ATTACH;FMTTYPE=image/jpeg:https://www.vydya.com/wp-content/uploads/2022/11
 /2023-02-09-Biomedical-Conference-Webinar-p.jpg
CATEGORIES:Research &amp; Development
END:VEVENT
BEGIN:VTIMEZONE
TZID:America/New_York
X-LIC-LOCATION:America/New_York
BEGIN:STANDARD
DTSTART:20221106T010000
TZOFFSETFROM:-0400
TZOFFSETTO:-0500
TZNAME:EST
END:STANDARD
END:VTIMEZONE
END:VCALENDAR