BEGIN:VCALENDAR
VERSION:2.0
PRODID:-//wp-events-plugin.com//7.2.3.1//EN
TZID:America/New_York
X-WR-TIMEZONE:America/New_York
BEGIN:VEVENT
UID:316@vydya.com
DTSTART;TZID=America/New_York:20211012T090000
DTEND;TZID=America/New_York:20211012T180000
DTSTAMP:20210916T172647Z
URL:https://www.vydya.com/events/bacterial-diseases-conference-2021/
SUMMARY:11th International Conference on Bacteriology and Infectious Diseas
 es
DESCRIPTION:The organizing committee is delighted to welcome you to be a pa
 rt of “4th Annual Conference on Bacterial\, Viral and Infectious Disease
 s” Webinar scheduled for October 12\, 2021. This Bacterial diseases 2021
  Webinar will focus on the theme “Winds of Change and Innovation in Bact
 erial\, Viral and Infectious Diseases” that provides a global platform t
 o discuss about the present and future challenges.\n\nBacterial diseases 2
 021 will provide an international platform for discussion and representing
  their views on present and future challenges in various infectious diseas
 es\, latest diagnosis methods and modern treatments. It gives an opportuni
 ty to the young to represent their thought regarding the forensic bacterio
 logy\, forensic virology and the techniques regarding this.\nConference Se
 ssions\nBacteriology and Virology\nClinical Pathology\nBiofilms and Biosen
 sors\nBacterial and Viral Infectious diseases\nPediatric Pathology\nMicrob
 ial Molecular biology\nRecombinant Protein Production and Enzymology\nFood
 borne Infections and their Prevention\nMicrobiology of Water\nBacterial Na
 notechnology\nAntibacterial Drugs\nMarine Microbiology and Marine Infectio
 us Diseases\nSoil Microbiology\nDiagnosis and Treatment of Infectious Dise
 ases\nIndustrially Important Microorganisms\nMicrobial Immunology\nVaccine
 s and Therapeutics\nGlobal Spread of Viruses
ATTACH;FMTTYPE=image/jpeg:https://www.vydya.com/wp-content/uploads/2021/09
 /2021-10-12-Bacterial-Diseases-Conference.jpg
CATEGORIES:Medical Conference,Research &amp; Development
END:VEVENT
BEGIN:VTIMEZONE
TZID:America/New_York
X-LIC-LOCATION:America/New_York
BEGIN:DAYLIGHT
DTSTART:20210314T030000
TZOFFSETFROM:-0500
TZOFFSETTO:-0400
TZNAME:EDT
END:DAYLIGHT
END:VTIMEZONE
END:VCALENDAR