BEGIN:VCALENDAR
VERSION:2.0
PRODID:-//wp-events-plugin.com//7.2.3.1//EN
TZID:America/New_York
X-WR-TIMEZONE:America/New_York
BEGIN:VEVENT
UID:23@vydya.com
DTSTART;TZID=America/New_York:20191118T090000
DTEND;TZID=America/New_York:20191119T180000
DTSTAMP:20190521T033712Z
URL:https://www.vydya.com/events/5th-world-congress-on-cancer-and-diagnost
 ics/
SUMMARY:5th World Congress on Cancer and Diagnostics
DESCRIPTION:It is a great delight and prestige to extend to you a warm invi
 tation to attend the “5th World Congress on Cancer and Diagnostics”\, 
 to be held on November 18-19\, 2019 in Rome\, Italy. We cordially welcome 
 all the prominent researchers\, students and delegates to take part in thi
 s forthcoming conference to witness precious scientific discussions and co
 ntribute to the future reformation in the field of Cancer. World Cancer -2
 019 will be sorted out around the theme “Enlightening The Advancements A
 nd Exploring The New Horizons In Cancer”\n\n5th World Congress on Cancer
  and Diagnostics directs towards the main issues as well as future strateg
 ies of Cancer. This is going to be the largest and most promising internat
 ional conference bridging the gaps between the intellectuals from across t
 he globe to enlighten their research and findings at 5th World Congress on
  Cancer and Diagnostics where the program includes Clinical Oncologist and
  whole medical team involved in cancer patient care\, researchers\, profes
 sional\, early career individuals and patient advocates. To investigate th
 e new thoughts and ideas on worldwide scale and the points incorporate lun
 g malignant growth\, bosom disease\, bone malignant growth\, leukemia\, bl
 ood cancer\, cervical disease\, colon-rectum disease\, pediatric disease\,
  careful malignant growth\, thyroid malignant growth\, Prostate malignant 
 growth.\nConference Sessions\nCancer Biomarkers\nCancer Immunology &amp\; 
 Immunotherapy\nCancer: Lifestyle and Nutrition\nOncology Nursing and Care\
 nCancer Screening\nTargeted Cancer Therapies\nCancer Diagnosis &amp\; Canc
 er diagnostics\nOncology Saviors\nPharmaceutical Oncology\nCancer Science 
 &amp\; Cancer Therapies\nCancer Vaccination\nCancer Prevention\nCancer Bio
 informatics\nHormonal Therapy\nCancer Biology\nKey Role of Pathology in Ca
 ncer
ATTACH;FMTTYPE=image/jpeg:https://www.vydya.com/wp-content/uploads/2019/05
 /Home-Banner.jpg
CATEGORIES:Medical Conference
LOCATION:Rome\, Italy\, -\, Rome\, Italy
X-APPLE-STRUCTURED-LOCATION;VALUE=URI;X-ADDRESS=-\, Rome\, Italy;X-APPLE-RA
 DIUS=100;X-TITLE=Rome\, Italy:geo:0,0
END:VEVENT
BEGIN:VTIMEZONE
TZID:America/New_York
X-LIC-LOCATION:America/New_York
BEGIN:STANDARD
DTSTART:20191103T010000
TZOFFSETFROM:-0400
TZOFFSETTO:-0500
TZNAME:EST
END:STANDARD
END:VTIMEZONE
END:VCALENDAR