BEGIN:VCALENDAR
VERSION:2.0
PRODID:-//wp-events-plugin.com//7.2.3.1//EN
TZID:America/New_York
X-WR-TIMEZONE:America/New_York
BEGIN:VEVENT
UID:56@vydya.com
DTSTART;TZID=Asia/Tokyo:20191127T090000
DTEND;TZID=Asia/Tokyo:20191128T180000
DTSTAMP:20190701T080314Z
URL:https://www.vydya.com/events/4th-international-conference-on-nano-medi
 cine-drug-delivery/
SUMMARY:4th International conference on Nano medicine & Drug delivery
DESCRIPTION:We are pleased to invite you to the “4th World conference on 
 Nano Medicine and Drug delivery” which will take place on November27-28\
 , 2019\, in Tokyo\, Japan.\n\nThe conference will bring together Researche
 rs and Scientists from more than 40 nations to share their knowledge\, exp
 erience\, and expertise through a series of Key Notes\, Plenary Talks\, Wo
 rkshops\, Symposiums\, and Exhibitions.\n\nThe theme of this Nano delivery
  conference is “Evaluating latest ideas in Nano Medicine &amp\; Drug del
 ivery” and the audience is expected from wide disciplines.\nConference S
 essions\nNano Medicine\nCancer And Nanotechnology\nNanotechnology And Biom
 edical Applications\nPersonalized Nano Medicine\nRegenerative Medicine And
  Tissue Engineering\nRegulatory Aspects Towards Approval Of Nano Medicine\
 nPharmaceutical Nanotechnology\nNano Materials For Drug Delivery\nDesign O
 f Nano Drugs\nDrug Targeting And Design\nDrug Delivery Research\nDrug Deli
 very Equipment And Machinery\nSmart Drug Delivery Technology\nNovel Drug D
 elivery Systems\nRoutes Of Drug Administration\nVaccine Design And Deliver
 y Technology\nRecent Advances In Drug Delivery\nNano Pharmaceutical Indust
 ry And Market\nDrug Delivery And Device Development\nMajor Challenges In D
 rug Delivery\nDrug Delivery Companies And Market
ATTACH;FMTTYPE=image/jpeg:https://www.vydya.com/wp-content/uploads/2019/07
 /2019-11-27-Nano-Medicine-Tokyo-s.jpg
CATEGORIES:Medical Conference,Research &amp; Development
LOCATION:Tokyo\, Japan\, -\, Tokyo\, Japan
X-APPLE-STRUCTURED-LOCATION;VALUE=URI;X-ADDRESS=-\, Tokyo\, Japan;X-APPLE-R
 ADIUS=100;X-TITLE=Tokyo\, Japan:geo:0,0
END:VEVENT
BEGIN:VTIMEZONE
TZID:Asia/Tokyo
X-LIC-LOCATION:Asia/Tokyo
BEGIN:STANDARD
DTSTART:20181127T090000
TZOFFSETFROM:+0900
TZOFFSETTO:+0900
TZNAME:JST
END:STANDARD
END:VTIMEZONE
END:VCALENDAR