BEGIN:VCALENDAR
VERSION:2.0
PRODID:-//wp-events-plugin.com//7.2.3.1//EN
TZID:America/New_York
X-WR-TIMEZONE:America/New_York
BEGIN:VEVENT
UID:465@vydya.com
DTSTART;TZID=America/New_York:20230515T090000
DTEND;TZID=America/New_York:20230516T180000
DTSTAMP:20221227T170959Z
URL:https://www.vydya.com/events/4th-global-summit-on-diabetes-and-endocri
 nology/
SUMMARY:4th Global Summit on Diabetes and Endocrinology
DESCRIPTION:Conference Series invites worldwide global audience and present
 ers to participate at the 4th Global Summit on Diabetes &amp\; Endocrinolo
 gy which is to be held in Madrid\, Spain during May 15-16\, 2023. Special 
 interest and theme of the conference is “Recent Advancements and Develop
 ments in Diabetes and Endocrinology”.\n\nGlobal Summit on Diabetes &amp\
 ; Endocrinology 2023 aims to provide an opportunity to share knowledge\, e
 xpertise along with unparalleled networking opportunities between a large 
 number of medical and industrial professionals in this sphere. The meeting
  gathers renowned scientists\, physicians\, surgeons\, young researchers\,
  industrial delegates and talented student communities in the field of dia
 betic medicine under a single roof where networking and global partnering 
 happens for the acceleration of future research. This conference is an int
 ernational platform for presenting research about diabetes management and 
 therapeutics\, exchanging ideas about it and thus\, contributes to the dis
 semination of knowledge in management of the disease for the benefit of th
 e society.\nConference Scientific Sessions\nDiabetes: Types and Its Compli
 cations\nComplication and management of diabetes\nDiabetes and skin compli
 cation\nDiabetes and Cardiovascular Diseases\nDiabetes Ophthalmology\nDiab
 etic nephropathy\nAdvanced treatment and prevention of diabetes\nBiomarker
 s of diabetes\nDiet and weight management\nDiabetic foot and ankle\nThyroi
 d disorders\nPathophysiology: endocrinology and diabetes\nEndocrine and di
 abetic disorders\nDiabetic and endocrine diagnostic tools and tests\nPedia
 tric endocrinology\nEndocrinology: Male and Female Reproductive Health\nGe
 nomic endocrinology\nEnvironmental endocrinology
ATTACH;FMTTYPE=image/jpeg:https://www.vydya.com/wp-content/uploads/2022/12
 /2023-05-15-Endocrinology-Conference-Madrid-p.jpg
CATEGORIES:Medical Conference
END:VEVENT
BEGIN:VTIMEZONE
TZID:America/New_York
X-LIC-LOCATION:America/New_York
BEGIN:DAYLIGHT
DTSTART:20230312T030000
TZOFFSETFROM:-0500
TZOFFSETTO:-0400
TZNAME:EDT
END:DAYLIGHT
END:VTIMEZONE
END:VCALENDAR