BEGIN:VCALENDAR
VERSION:2.0
PRODID:-//wp-events-plugin.com//7.2.3.1//EN
TZID:America/New_York
X-WR-TIMEZONE:America/New_York
BEGIN:VEVENT
UID:51@vydya.com
DTSTART:20191104T080000Z
DTEND:20191105T170000Z
DTSTAMP:20190621T183721Z
URL:https://www.vydya.com/events/2nd-international-maternal-and-child-heal
 th-conference/
SUMMARY:2nd International Maternal and Child Health Conference
DESCRIPTION:It is a great pleasure and an honor in extending you a warm inv
 itation to attend the "2nd International Maternal and Child Health Confere
 nce" scheduled during November 4-5\, 2019 in Porto\, Portugal. We sincerel
 y welcome all the eminent researchers\, students\, Pediatricians\, Obstetr
 icians\, Surgeons and delegates to take part in this upcoming conference t
 o witness invaluable scientific discussions and contribute to the future r
 evolutions in the field of Women's health and Child care. IMCHC 2019 will 
 be focused out around the theme "Most recent Interlinking Pathways on Moth
 er and Child Health".\n\nWe cordially invite you all to take part in Mater
 nal and Child Health Conference 2019!\nConference Scientific Sessions\nMat
 ernal Fetal and Neonatal Medicine\nMaternal and Neonatal Oncology\nMaterna
 l Pharmacokinetics\nMidwifery and Neonatal Nursing Services\nPreconception
  Health or Fertility\nMaternal and Child Nutrition\nCaesarean Section Safe
 ty and Quality\nMaternal and Child Obesity\nMaternal and Child Health Syst
 ems\nInfertility\nPregnancy\, Child birth and Postpartum care\nFamily and 
 Youth Engagement\nHealth Care Financing and Coverage\nTeenage Pregnancy an
 d its effects on Child\nBreast Feeding and Formula Feeding\nNeonatal Surge
 ry and Complications\nCongenital Cytomegalovirus Infection\nDrugs\, Vaccin
 es and Immunization for Children\nWomen and Child Advocacy\nChildren Infec
 tious and Immunity Diseases\nNewborn\, Infant\, Child and Adolescent Healt
 h\nChild Abuse\nTraditional Birth Attendants\nFemale Genital Mutilation\nF
 amily Planning\nWorkforce Development and Leadership\nEpidemiology/Data\, 
 Assessment and Evaluation\nPreventing Mother to Child HIV Transmission\nPr
 eterm Birth Defects and Complications\nGenomic Science and Precision in MC
 H\nChildren and Youth With Special Healthcare Needs\nInterventions on Peri
 natal and Neonatal Mortality\n\n&nbsp\;
ATTACH;FMTTYPE=image/jpeg:https://www.vydya.com/wp-content/uploads/2019/06
 /2019-11-04-Maternal-Health-Conference-Portugal-p.jpg
CATEGORIES:Medical Conference,Pediatrics Conference
LOCATION:Novotel Porto Gaia Hotel in Porto\, Portugal\, Rua Martir Sao Seba
 stiao\, Afurada\, 4400-499 Vila Nova de Gaia\, Portugal\, Porto\, Porto\, 
 4400-499\, Portugal
X-APPLE-STRUCTURED-LOCATION;VALUE=URI;X-ADDRESS=Rua Martir Sao Sebastiao\, 
 Afurada\, 4400-499 Vila Nova de Gaia\, Portugal\, Porto\, Porto\, 4400-499
 \, Portugal;X-APPLE-RADIUS=100;X-TITLE=Novotel Porto Gaia Hotel in Porto\,
  Portugal:geo:0,0
END:VEVENT
END:VCALENDAR