BEGIN:VCALENDAR
VERSION:2.0
PRODID:-//wp-events-plugin.com//7.2.3.1//EN
TZID:America/New_York
X-WR-TIMEZONE:America/New_York
BEGIN:VEVENT
UID:57@vydya.com
DTSTART;TZID=Europe/Amsterdam:20190812T090000
DTEND;TZID=Europe/Amsterdam:20190813T180000
DTSTAMP:20190701T095603Z
URL:https://www.vydya.com/events/2nd-international-conference-on-cardiovas
 cular-diseases-and-therapeutics/
SUMMARY:2nd International Conference on Cardiovascular Diseases and Therape
 utics
DESCRIPTION:We are glad to announce the 2nd International Conference on Car
 diovascular Diseases and Therapeutics to be held in Amsterdam\, Netherland
 s from August 12-13\, 2019 organized by Conference Series LLC Ltd in colla
 boration with generous support and cooperation from enthusiastic academici
 ans and editorial Board Members.\n\nThis conference is a unique internatio
 nal platform that’s a confluence of all stake holders of the ecosystem 
 – Industry\, Academia\, Researchers\, Innovators\, Regulators – coming
  together to present and discuss current topics in:\n\nCardiovascular Dise
 ases\nVascular Diseases and Treatment\nCardiovascular Pharmacology and The
 rapeutics\nCardiac Arrhythmias and Device Therapy\nCardiovascular Drugs\nP
 ediatric Cardiology\nCoronary Heart Disease\nCardiac Nursing\nHypertension
 \, Stress and Stroke\nCardiovascular Medical Devices\nClinical Cases In Ca
 rdiology\nCardiac Surgery\nCardiac Diagnostic Tests\nCongenital Heart Defe
 cts: Anatomy and Care\nHeart Failure and Cardiomyopathies\nSilent Ischemia
  and Ischemic Heart Disease\nSports and Exercise Cardiology\nCardio-Oncolo
 gy\nAnticoagulation management.\n\nCardiovascular Diseases and Therapeutic
 s as the premier event\, we have developed a program with your interests i
 n mind. We have not only increased the number of opportunities for you to 
 network with colleagues from across the world but also introduced more foc
 used sessions that will feature cutting edge presentations\, special panel
  discussions\, and livelier interaction with industry leaders and experts.
  Life is full of give and take. Make it count in your professional life. A
 ttend the CVDT 2019 Conference to network with your peers\, exchange exper
 tise and experiences\, and arm yourself with the latest information to tak
 e your department to the next level.
ATTACH;FMTTYPE=image/jpeg:https://www.vydya.com/wp-content/uploads/2019/07
 /2019-08-12-Cardio-Diseases-Conference-Amsterdam.jpg
CATEGORIES:Medical Conference
LOCATION:Amsterdam\, Netherlands\, -\, Amsterdam\, Netherlands
X-APPLE-STRUCTURED-LOCATION;VALUE=URI;X-ADDRESS=-\, Amsterdam\, Netherlands
 ;X-APPLE-RADIUS=100;X-TITLE=Amsterdam\, Netherlands:geo:0,0
END:VEVENT
BEGIN:VTIMEZONE
TZID:Europe/Amsterdam
X-LIC-LOCATION:Europe/Amsterdam
BEGIN:DAYLIGHT
DTSTART:20190331T030000
TZOFFSETFROM:+0100
TZOFFSETTO:+0200
TZNAME:CEST
END:DAYLIGHT
END:VTIMEZONE
END:VCALENDAR