BEGIN:VCALENDAR
VERSION:2.0
PRODID:-//wp-events-plugin.com//7.2.3.1//EN
TZID:America/New_York
X-WR-TIMEZONE:America/New_York
BEGIN:VEVENT
UID:2126@vydya.com
DTSTART;TZID=America/New_York:20260323T090000
DTEND;TZID=America/New_York:20260324T160000
DTSTAMP:20260226T220240Z
URL:https://www.vydya.com/events/26th-annual-congress-on-pediatrics-neonat
 ology/
SUMMARY:26th Annual Congress on Pediatrics & Neonatology
DESCRIPTION:We are pleased to invite you to the 26th Annual Congress on Ped
 iatrics &amp\; Neonatology\, scheduled for March 23-24\, 2026\, in Rome\, 
 Italy. Centered around the theme "Innovations in Pediatric Care: Shaping t
 he Future of Child Health\," this congress offers a dynamic platform for s
 haring ideas\, research\, and solutions in pediatrics and emergency care.\
 nConference Scientific Sessions\nNutrition\, Obesity &amp\; Metabolic Diso
 rders in Pediatrics\nPediatric Treatment\nPediatric Diseases\nPediatric Ph
 armacology\nPediatric Emergency Medicine\nPediatric Surgery\nPediatric Nur
 sing\nChild Health\nNeonatology\nPediatric Medicine\nPediatric Neurology\n
 Pediatric Care\nPediatric Genomics &amp\; Precision Medicine\nArtificial I
 ntelligence &amp\; Robotics in Pediatrics\nPediatric Orthopedics\nPediatri
 c Gastroenterology\nPediatric Nephrology\nPediatric Cardiology\nPediatric 
 Pulmonology\nPediatric Infectious Diseases &amp\; Vaccinology\nNeonatology
  &amp\; Perinatology Advances
ATTACH;FMTTYPE=image/jpeg:https://www.vydya.com/wp-content/uploads/2026/02
 /2026-03-23-Pediatrics-Conference-Italy-s.jpg
CATEGORIES:Medical Conference,Pediatrics Conference
END:VEVENT
BEGIN:VTIMEZONE
TZID:America/New_York
X-LIC-LOCATION:America/New_York
BEGIN:DAYLIGHT
DTSTART:20260308T030000
TZOFFSETFROM:-0500
TZOFFSETTO:-0400
TZNAME:EDT
END:DAYLIGHT
END:VTIMEZONE
END:VCALENDAR