BEGIN:VCALENDAR
VERSION:2.0
PRODID:-//wp-events-plugin.com//7.2.3.1//EN
TZID:America/New_York
X-WR-TIMEZONE:America/New_York
BEGIN:VEVENT
UID:648@vydya.com
DTSTART;TZID=America/New_York:20250324T090000
DTEND;TZID=America/New_York:20250325T180000
DTSTAMP:20240816T212528Z
URL:https://www.vydya.com/events/21st-world-nephrology-conference/
SUMMARY:21st World Nephrology Conference
DESCRIPTION:Welcome to the 21st World Nephrology Conference\, scheduled t
 o be held on March 24-25\, 2025\, in the vibrant city of Amsterdam\, Net
 herlands. This conference\, also known as World Nephrology 2025\, promise
 s to be a gathering of renowned experts\, scholars\, and practitioners in 
 the fields of nephrology\, urology\, and therapeutics.\nConference Scienti
 fic Sessions\nNephrology Advances\nPediatric Nephrology and Urology\nClini
 cal Nephrology\nKidney and Bladder Stones\nRenal Pathology-Immunology\nRen
 al Disease Diagnosis and Care\nDrugs and Medication for Kidney Disease\nDi
 agnostic\, Imaging and Radiation techniques\nCardiovascular Impacts of Kid
 ney Diseases\nKidney Transplantation\nGlomerular Disease\nNephrotic Syndro
 me\nDiet for Kidney Health\nTherapeutic Strategies\nUrology Innovations\nP
 atient-Centered Care\nGlobal Perspectives in Nephrology and Urology\nEmerg
 ing Technologies and Diagnostics\nHydronephrosis\nNeuro-urology
ATTACH;FMTTYPE=image/jpeg:https://www.vydya.com/wp-content/uploads/2024/08
 /2025-03-24-Nephrology-Conference-Amsterdam-p.jpg
CATEGORIES:Medical Conference,Nephrology Conference
END:VEVENT
BEGIN:VTIMEZONE
TZID:America/New_York
X-LIC-LOCATION:America/New_York
BEGIN:DAYLIGHT
DTSTART:20250309T030000
TZOFFSETFROM:-0500
TZOFFSETTO:-0400
TZNAME:EDT
END:DAYLIGHT
END:VTIMEZONE
END:VCALENDAR