BEGIN:VCALENDAR
VERSION:2.0
PRODID:-//wp-events-plugin.com//7.2.3.1//EN
TZID:America/New_York
X-WR-TIMEZONE:America/New_York
BEGIN:VEVENT
UID:521@vydya.com
DTSTART;TZID=America/New_York:20230904T090000
DTEND;TZID=America/New_York:20230905T170000
DTSTAMP:20230613T135540Z
URL:https://www.vydya.com/events/18th-international-conference-on-dermatol
 ogy-and-cosmetic-medicine/
SUMMARY:18th International Conference on Dermatology and Cosmetic Medicine
DESCRIPTION:We cordially invite you to be the part of the prestigious 17th 
 International Conference on Dermatology and Cosmetic Medicine schedule for
  September 04-05\, 2023 at Frankfurt\, Germany We aim to unite all the peo
 ple involved in this vast field and share the knowledge\, explore and look
  forward to the new way by integrating new thoughts and modifying the limi
 ts of future technology.\n\nThe Dermatology Medicine 2023 is designed with
  the keynote sessions\, session lectures\, poster presentations\, presenta
 tions from the young researchers\, Panel Discussions\, and the B2B meeting
 s with world-renowned speakers from the stream of Dermatology and Cosmetol
 ogy. It provides the best platform for the researchers all over the globe 
 to introduce themselves to the innovative world with their unique research
 .\nConference Scientific Sessions\nSkin Cancer\nPlastic and Reconstructive
  Surgery\nAcne and Rosacea\nAtopic dermatitis and other Dermatitis\nAutoim
 mune and systemic Diseases\nPediatric Dermatology\nPsoriasis and other Pap
 ulosquamous Disorders\nSurgical and Cosmetic Dermatology\nAesthetic Dermat
 ology\nCosmeceuticals\nHair and Nails\nAlternative Medicine Solutions\nPsy
 chodermatology\nImmunodermatology\nCryotherapy\nLaser Surgery\nDermatopath
 ology\nDermatovenerology\nUrticaria and Angioedema\nVitiligo
ATTACH;FMTTYPE=image/jpeg:https://www.vydya.com/wp-content/uploads/2023/06
 /2023-09-04-Dermatology-Donference-Frankfurt-s.jpg
CATEGORIES:Dermatology Conference,Medical Conference
END:VEVENT
BEGIN:VTIMEZONE
TZID:America/New_York
X-LIC-LOCATION:America/New_York
BEGIN:DAYLIGHT
DTSTART:20230312T030000
TZOFFSETFROM:-0500
TZOFFSETTO:-0400
TZNAME:EDT
END:DAYLIGHT
END:VTIMEZONE
END:VCALENDAR