BEGIN:VCALENDAR
VERSION:2.0
PRODID:-//wp-events-plugin.com//7.2.3.1//EN
TZID:America/New_York
X-WR-TIMEZONE:America/New_York
BEGIN:VEVENT
UID:94@vydya.com
DTSTART;TZID=Asia/Dubai:20191209T090000
DTEND;TZID=Asia/Dubai:20191210T180000
DTSTAMP:20190813T071804Z
URL:https://www.vydya.com/events/14th-international-conference-on-cancer-a
 nd-cancer-therapy/
SUMMARY:14th International Conference on Cancer and Cancer Therapy
DESCRIPTION:This two day cancer conference will be a highly interactive for
 um that will bring experts in areas ranging from Cancer Genomic analysis t
 o novel therapeutic techniques and approaches to cure cancer.\n\nThe confe
 rence is designed with 35+ sessions and sub-tracks where some of the Confe
 rence Sessions are:\n\nCancer\nCancer Biology\nOncology\nTumor\nAnal Cance
 r\nBreast Cancer\nHead and Neck Cancer\nGastrointestinal Cancer\nColorecta
 l Cancer\nPancreatic Cancer\nLiver cancer\nEsophageal Cancer\nStomach Canc
 er/Gastric cancer\nGall Bladder Cancer\nLung Cancer\nBone Cancer\nBrain Ca
 ncer\nBlood Cancer\nLeukaemia\nLymphoma\nMyeloma\nCervical Cancer\nEye Can
 cer\nKidney Cancer/Renal Cancer\nOvarian Cancer\nProstate Cancer\nSkin Can
 cer\nVaginal Cancer\nUterine Cancer\nCancer Diagnosis\nCancer Therapy\nCan
 cer Chemotherapy\nCancer Surgery\nCancer Radiation Therapy\nCancer Immunot
 herapy\nCancer Vaccine\nCancer Clinical Trails\nNursing Oncology\nAreas of
  Research in Cancer\nBusiness entrepreneur Meet\n\n&nbsp\;\n\n&nbsp\;
ATTACH;FMTTYPE=image/jpeg:https://www.vydya.com/wp-content/uploads/2019/08
 /2019-12-09-Cancer-Tyerapy-Conference-Dubai.jpg
CATEGORIES:Medical Conference
LOCATION:Dubai\, UAE\, -\, Dubai\, United Arab Emirates
X-APPLE-STRUCTURED-LOCATION;VALUE=URI;X-ADDRESS=-\, Dubai\, United Arab Emi
 rates;X-APPLE-RADIUS=100;X-TITLE=Dubai\, UAE:geo:0,0
END:VEVENT
BEGIN:VTIMEZONE
TZID:Asia/Dubai
X-LIC-LOCATION:Asia/Dubai
BEGIN:STANDARD
DTSTART:20181209T090000
TZOFFSETFROM:+0400
TZOFFSETTO:+0400
TZNAME:+04
END:STANDARD
END:VTIMEZONE
END:VCALENDAR